BEGIN:VCALENDAR
VERSION:2.0
PRODID:-//Hucurat Hareketi - ECPv6.15.20//NONSGML v1.0//EN
CALSCALE:GREGORIAN
METHOD:PUBLISH
X-WR-CALNAME:Hucurat Hareketi
X-ORIGINAL-URL:https://hucurathareketi.com
X-WR-CALDESC:Hucurat Hareketi için etkinlikler
REFRESH-INTERVAL;VALUE=DURATION:PT1H
X-Robots-Tag:noindex
X-PUBLISHED-TTL:PT1H
BEGIN:VTIMEZONE
TZID:Europe/Istanbul
BEGIN:STANDARD
TZOFFSETFROM:+0300
TZOFFSETTO:+0300
TZNAME:+03
DTSTART:20240101T000000
END:STANDARD
END:VTIMEZONE
BEGIN:VEVENT
DTSTART;TZID=Europe/Istanbul:20251213T070000
DTEND;TZID=Europe/Istanbul:20251213T170000
DTSTAMP:20260423T183141
CREATED:20251209T094947Z
LAST-MODIFIED:20251209T094947Z
UID:5111-1765609200-1765645200@hucurathareketi.com
SUMMARY:Sümbül Efendi Sabah Namazı
DESCRIPTION:Çocuklarla sabah namazı buluşması / Murat hoca\n\nBoyama+Sunum+Sergi\n\n130 çocuk boyama kitabı hediye
URL:https://hucurathareketi.com/event/sumbul-efendi-sabah-namazi/
END:VEVENT
END:VCALENDAR