BEGIN:VCALENDAR
VERSION:2.0
PRODID:-//Hucurat Hareketi - ECPv6.15.20//NONSGML v1.0//EN
CALSCALE:GREGORIAN
METHOD:PUBLISH
X-ORIGINAL-URL:https://hucurathareketi.com
X-WR-CALDESC:Hucurat Hareketi için etkinlikler
REFRESH-INTERVAL;VALUE=DURATION:PT1H
X-Robots-Tag:noindex
X-PUBLISHED-TTL:PT1H
BEGIN:VTIMEZONE
TZID:Europe/Istanbul
BEGIN:STANDARD
TZOFFSETFROM:+0300
TZOFFSETTO:+0300
TZNAME:+03
DTSTART:20240101T000000
END:STANDARD
END:VTIMEZONE
BEGIN:VEVENT
DTSTART;TZID=Europe/Istanbul:20250903T200000
DTEND;TZID=Europe/Istanbul:20250903T213000
DTSTAMP:20260423T152538
CREATED:20250829T080241Z
LAST-MODIFIED:20250830T125347Z
UID:4396-1756929600-1756935000@hucurathareketi.com
SUMMARY:Osmanlı Motosiklet Derneği
DESCRIPTION:Zeytinburnu\n\nakşam namazı sonrası sohbet\n\nFatih Dinçer ile beraber
URL:https://hucurathareketi.com/event/osmanli-motor-grubu/
END:VEVENT
BEGIN:VEVENT
DTSTART;TZID=Europe/Istanbul:20250906T080000
DTEND;TZID=Europe/Istanbul:20250906T170000
DTSTAMP:20260423T152538
CREATED:20250625T152748Z
LAST-MODIFIED:20250625T152748Z
UID:3904-1757145600-1757178000@hucurathareketi.com
SUMMARY:Peren Birsaygılı Mut
DESCRIPTION:Randevu alınacak.\n\nEylül ayı için. 6 Eylül Cumartesi olabilir.\n\nMekan-ı Aksa’ya
URL:https://hucurathareketi.com/event/peren-birsaygili-mut/
END:VEVENT
BEGIN:VEVENT
DTSTART;TZID=Europe/Istanbul:20250927T080000
DTEND;TZID=Europe/Istanbul:20250929T170000
DTSTAMP:20260423T152538
CREATED:20250718T112938Z
LAST-MODIFIED:20250718T123503Z
UID:4123-1758960000-1759165200@hucurathareketi.com
SUMMARY:Zeytinburnu 3 günlük festival
DESCRIPTION:Hakan Yüksel kardeş\n\nSenart Fashion Mall AVM’de çocuk festivali\, 3 gün\n\nKapalı mekanda (AVM) olacağı için sergiyi akşamları toplamaya gerek yok.\n\n \n\n+ Resim Sergisi\n\n+ Boyama etkinliği\n\n+ Filistin ürünleri
URL:https://hucurathareketi.com/event/zeytinburnu-3-gunluk-festival/
ATTACH;FMTTYPE=image/png:https://hucurathareketi.com/wp-content/uploads/2025/07/Zeytinburnu.png
END:VEVENT
END:VCALENDAR