BEGIN:VCALENDAR
VERSION:2.0
PRODID:-//Hucurat Hareketi - ECPv6.15.20//NONSGML v1.0//EN
CALSCALE:GREGORIAN
METHOD:PUBLISH
X-WR-CALNAME:Hucurat Hareketi
X-ORIGINAL-URL:https://hucurathareketi.com
X-WR-CALDESC:Hucurat Hareketi için etkinlikler
REFRESH-INTERVAL;VALUE=DURATION:PT1H
X-Robots-Tag:noindex
X-PUBLISHED-TTL:PT1H
BEGIN:VTIMEZONE
TZID:Europe/Istanbul
BEGIN:STANDARD
TZOFFSETFROM:+0300
TZOFFSETTO:+0300
TZNAME:+03
DTSTART:20240101T000000
END:STANDARD
END:VTIMEZONE
BEGIN:VEVENT
DTSTART;TZID=Europe/Istanbul:20250510T190000
DTEND;TZID=Europe/Istanbul:20250510T220000
DTSTAMP:20260419T165625
CREATED:20250217T111210Z
LAST-MODIFIED:20250311T113152Z
UID:3328-1746903600-1746914400@hucurathareketi.com
SUMMARY:Başakşehir Dua Vakfı
DESCRIPTION:Yılsonu programı\n\nSergi + Boyama etkinliği\n\n300 kişilik katılım bekleniyor.\n\nMehmet Emin Sanaç Okulundaki belediye kültür merkezinde olacak.\n\n19.0-22.00 arası
URL:https://hucurathareketi.com/event/basaksehir-dua-vakfi/
END:VEVENT
BEGIN:VEVENT
DTSTART;TZID=Europe/Istanbul:20250522T080000
DTEND;TZID=Europe/Istanbul:20250525T170000
DTSTAMP:20260419T165625
CREATED:20250521T125500Z
LAST-MODIFIED:20250521T125501Z
UID:3446-1747900800-1748192400@hucurathareketi.com
SUMMARY:Etnospor
DESCRIPTION:etnospor kültür festivali 4 günlük.\n\natatürk havalimanı
URL:https://hucurathareketi.com/event/etnospor/
END:VEVENT
BEGIN:VEVENT
DTSTART;TZID=Europe/Istanbul:20250524T110000
DTEND;TZID=Europe/Istanbul:20250524T153000
DTSTAMP:20260419T165625
CREATED:20250521T125623Z
LAST-MODIFIED:20250521T125623Z
UID:3448-1748084400-1748100600@hucurathareketi.com
SUMMARY:Sümbül efendi cami
DESCRIPTION:Resim sergisi
URL:https://hucurathareketi.com/event/sumbul-efendi-cami/
END:VEVENT
BEGIN:VEVENT
DTSTART;TZID=Europe/Istanbul:20250525T140000
DTEND;TZID=Europe/Istanbul:20250525T153000
DTSTAMP:20260419T165625
CREATED:20250521T125817Z
LAST-MODIFIED:20250521T125847Z
UID:3450-1748181600-1748187000@hucurathareketi.com
SUMMARY:Taha Kılınç yazar buluşması
DESCRIPTION:Sultangazi Mekan-ı Aksa’da
URL:https://hucurathareketi.com/event/taha-kilinc-yazar-bulusmasi/
END:VEVENT
BEGIN:VEVENT
DTSTART;TZID=Europe/Istanbul:20250529T110000
DTEND;TZID=Europe/Istanbul:20250529T170000
DTSTAMP:20260419T165625
CREATED:20250527T162625Z
LAST-MODIFIED:20250527T162625Z
UID:3483-1748516400-1748538000@hucurathareketi.com
SUMMARY:Şehit Ferdi Yurduseven Gençlik Merkezi
DESCRIPTION:Sultangazi Şehit Ferdi Yurduseven Gençlik Merkezi\n\nYağmur Demir – Konuşmacı\n\nFilistin Sergisi
URL:https://hucurathareketi.com/event/sehit-ferdi-yurduseven-genclik-merkezi/
END:VEVENT
END:VCALENDAR