BEGIN:VCALENDAR
VERSION:2.0
PRODID:-//Hucurat Hareketi - ECPv6.15.20//NONSGML v1.0//EN
CALSCALE:GREGORIAN
METHOD:PUBLISH
X-ORIGINAL-URL:https://hucurathareketi.com
X-WR-CALDESC:Hucurat Hareketi için etkinlikler
REFRESH-INTERVAL;VALUE=DURATION:PT1H
X-Robots-Tag:noindex
X-PUBLISHED-TTL:PT1H
BEGIN:VTIMEZONE
TZID:Europe/Istanbul
BEGIN:STANDARD
TZOFFSETFROM:+0300
TZOFFSETTO:+0300
TZNAME:+03
DTSTART:20240101T000000
END:STANDARD
END:VTIMEZONE
BEGIN:VEVENT
DTSTART;TZID=Europe/Istanbul:20250319T110000
DTEND;TZID=Europe/Istanbul:20250319T160000
DTSTAMP:20260419T195929
CREATED:20250319T002633Z
LAST-MODIFIED:20250319T002633Z
UID:3374-1742382000-1742400000@hucurathareketi.com
SUMMARY:Güneşli Birikim Okulları
DESCRIPTION:Resim sergisi
URL:https://hucurathareketi.com/event/gunesli-birikim-okullari/
END:VEVENT
END:VCALENDAR