BEGIN:VCALENDAR
VERSION:2.0
PRODID:-//Hucurat Hareketi - ECPv6.15.20//NONSGML v1.0//EN
CALSCALE:GREGORIAN
METHOD:PUBLISH
X-ORIGINAL-URL:https://hucurathareketi.com
X-WR-CALDESC:Hucurat Hareketi için etkinlikler
REFRESH-INTERVAL;VALUE=DURATION:PT1H
X-Robots-Tag:noindex
X-PUBLISHED-TTL:PT1H
BEGIN:VTIMEZONE
TZID:Europe/Istanbul
BEGIN:STANDARD
TZOFFSETFROM:+0300
TZOFFSETTO:+0300
TZNAME:+03
DTSTART:20230101T000000
END:STANDARD
END:VTIMEZONE
BEGIN:VEVENT
DTSTART;TZID=Europe/Istanbul:20241215T080000
DTEND;TZID=Europe/Istanbul:20241215T170000
DTSTAMP:20260420T001249
CREATED:20241210T105713Z
LAST-MODIFIED:20241210T105713Z
UID:3133-1734249600-1734282000@hucurathareketi.com
SUMMARY:Taraftar Gruplarıyla Ayasofya
DESCRIPTION:Sabah namazı buluşması
URL:https://hucurathareketi.com/event/taraftar-gruplariyla-ayasofya/
END:VEVENT
BEGIN:VEVENT
DTSTART;TZID=Europe/Istanbul:20241218T080000
DTEND;TZID=Europe/Istanbul:20241220T170000
DTSTAMP:20260420T001249
CREATED:20241210T105601Z
LAST-MODIFIED:20241210T110004Z
UID:3131-1734508800-1734714000@hucurathareketi.com
SUMMARY:Kütahya 3 Gün
DESCRIPTION:İlkokul\, Ortaokul ve Lise programları\n\n18-19 Aralık (Çarşamba-Perşembe) Hisarcık İlçesi\n\n20 Aralık Cuma Kütahya şehir merkezi\n\nSergi+ Seminer + Etkinlik
URL:https://hucurathareketi.com/event/kutahya-3-gun/
END:VEVENT
END:VCALENDAR