BEGIN:VCALENDAR
VERSION:2.0
PRODID:-//Hucurat Hareketi - ECPv6.15.20//NONSGML v1.0//EN
CALSCALE:GREGORIAN
METHOD:PUBLISH
X-WR-CALNAME:Hucurat Hareketi
X-ORIGINAL-URL:https://hucurathareketi.com
X-WR-CALDESC:Hucurat Hareketi için etkinlikler
REFRESH-INTERVAL;VALUE=DURATION:PT1H
X-Robots-Tag:noindex
X-PUBLISHED-TTL:PT1H
BEGIN:VTIMEZONE
TZID:Europe/Istanbul
BEGIN:STANDARD
TZOFFSETFROM:+0300
TZOFFSETTO:+0300
TZNAME:+03
DTSTART:20250101T000000
END:STANDARD
END:VTIMEZONE
BEGIN:VEVENT
DTSTART;TZID=Europe/Istanbul:20260325T100000
DTEND;TZID=Europe/Istanbul:20260325T170000
DTSTAMP:20260420T014157
CREATED:20260307T000729Z
LAST-MODIFIED:20260307T000729Z
UID:5625-1774432800-1774458000@hucurathareketi.com
SUMMARY:Eyüpsultan Kuran kursu
DESCRIPTION:Şevkibey camii\n\nŞahide anne kız kuran kursu\n\nAhmet’in hanımı.. Hoca\n\n15 çocuk var. 4-6 yaş grubu
URL:https://hucurathareketi.com/event/eyupsultan-kuran-kursu/
END:VEVENT
END:VCALENDAR