BEGIN:VCALENDAR
VERSION:2.0
PRODID:-//Hucurat Hareketi - ECPv6.15.20//NONSGML v1.0//EN
CALSCALE:GREGORIAN
METHOD:PUBLISH
X-WR-CALNAME:Hucurat Hareketi
X-ORIGINAL-URL:https://hucurathareketi.com
X-WR-CALDESC:Hucurat Hareketi için etkinlikler
REFRESH-INTERVAL;VALUE=DURATION:PT1H
X-Robots-Tag:noindex
X-PUBLISHED-TTL:PT1H
BEGIN:VTIMEZONE
TZID:Europe/Istanbul
BEGIN:STANDARD
TZOFFSETFROM:+0300
TZOFFSETTO:+0300
TZNAME:+03
DTSTART:20240101T000000
END:STANDARD
END:VTIMEZONE
BEGIN:VEVENT
DTSTART;TZID=Europe/Istanbul:20251231T153000
DTEND;TZID=Europe/Istanbul:20251231T170000
DTSTAMP:20260423T210823
CREATED:20251128T090946Z
LAST-MODIFIED:20251229T090401Z
UID:5021-1767195000-1767200400@hucurathareketi.com
SUMMARY:Yavuz Sultan Selim Anma
DESCRIPTION:Anma programı\n\nFatih / Yavuz Sultan Selim Camisinde
URL:https://hucurathareketi.com/event/yavuz-sultan-selim-anma/
END:VEVENT
END:VCALENDAR