BEGIN:VCALENDAR
VERSION:2.0
PRODID:-//Hucurat Hareketi - ECPv6.15.20//NONSGML v1.0//EN
CALSCALE:GREGORIAN
METHOD:PUBLISH
X-WR-CALNAME:Hucurat Hareketi
X-ORIGINAL-URL:https://hucurathareketi.com
X-WR-CALDESC:Hucurat Hareketi için etkinlikler
REFRESH-INTERVAL;VALUE=DURATION:PT1H
X-Robots-Tag:noindex
X-PUBLISHED-TTL:PT1H
BEGIN:VTIMEZONE
TZID:Europe/Istanbul
BEGIN:STANDARD
TZOFFSETFROM:+0300
TZOFFSETTO:+0300
TZNAME:+03
DTSTART:20240101T000000
END:STANDARD
END:VTIMEZONE
BEGIN:VEVENT
DTSTART;TZID=Europe/Istanbul:20251230T140000
DTEND;TZID=Europe/Istanbul:20251230T170000
DTSTAMP:20260423T210823
CREATED:20251224T175251Z
LAST-MODIFIED:20251229T090233Z
UID:5251-1767103200-1767114000@hucurathareketi.com
SUMMARY:K.Hane Günebakan İlkokulu
DESCRIPTION:Burak hoca TÜGVA ve Ensar Vakfı ile\n\nSergi + Sunum + Stant + Boyama
URL:https://hucurathareketi.com/event/k-hane-gunebakan-ilkokulu/
END:VEVENT
END:VCALENDAR