BEGIN:VCALENDAR
VERSION:2.0
PRODID:-//Hucurat Hareketi - ECPv6.15.20//NONSGML v1.0//EN
CALSCALE:GREGORIAN
METHOD:PUBLISH
X-ORIGINAL-URL:https://hucurathareketi.com
X-WR-CALDESC:Hucurat Hareketi için etkinlikler
REFRESH-INTERVAL;VALUE=DURATION:PT1H
X-Robots-Tag:noindex
X-PUBLISHED-TTL:PT1H
BEGIN:VTIMEZONE
TZID:Europe/Istanbul
BEGIN:STANDARD
TZOFFSETFROM:+0300
TZOFFSETTO:+0300
TZNAME:+03
DTSTART:20240101T000000
END:STANDARD
END:VTIMEZONE
BEGIN:VEVENT
DTSTART;TZID=Europe/Istanbul:20251229T143000
DTEND;TZID=Europe/Istanbul:20251229T170000
DTSTAMP:20260423T210004
CREATED:20251224T175217Z
LAST-MODIFIED:20251229T090244Z
UID:5249-1767018600-1767027600@hucurathareketi.com
SUMMARY:K.Hane Ekrem Cevahir AİHL
DESCRIPTION:Burak hoca TÜGVA ve Ensar Vakfı ile\n\nSergi + Sunum + Stant
URL:https://hucurathareketi.com/event/k-hane-ekrem-cevahir-aihl/
END:VEVENT
END:VCALENDAR