BEGIN:VCALENDAR
VERSION:2.0
PRODID:-//Hucurat Hareketi - ECPv6.15.20//NONSGML v1.0//EN
CALSCALE:GREGORIAN
METHOD:PUBLISH
X-ORIGINAL-URL:https://hucurathareketi.com
X-WR-CALDESC:Hucurat Hareketi için etkinlikler
REFRESH-INTERVAL;VALUE=DURATION:PT1H
X-Robots-Tag:noindex
X-PUBLISHED-TTL:PT1H
BEGIN:VTIMEZONE
TZID:Europe/Istanbul
BEGIN:STANDARD
TZOFFSETFROM:+0300
TZOFFSETTO:+0300
TZNAME:+03
DTSTART:20240101T000000
END:STANDARD
END:VTIMEZONE
BEGIN:VEVENT
DTSTART;TZID=Europe/Istanbul:20251227T143000
DTEND;TZID=Europe/Istanbul:20251227T170000
DTSTAMP:20260423T210253
CREATED:20251221T112354Z
LAST-MODIFIED:20251221T112354Z
UID:5210-1766845800-1766854800@hucurathareketi.com
SUMMARY:Dua Başakşehir
DESCRIPTION:Sunum + Sergi + Boyama + Stant
URL:https://hucurathareketi.com/event/dua-basaksehir/
END:VEVENT
END:VCALENDAR