BEGIN:VCALENDAR
VERSION:2.0
PRODID:-//Hucurat Hareketi - ECPv6.15.20//NONSGML v1.0//EN
CALSCALE:GREGORIAN
METHOD:PUBLISH
X-ORIGINAL-URL:https://hucurathareketi.com
X-WR-CALDESC:Hucurat Hareketi için etkinlikler
REFRESH-INTERVAL;VALUE=DURATION:PT1H
X-Robots-Tag:noindex
X-PUBLISHED-TTL:PT1H
BEGIN:VTIMEZONE
TZID:Europe/Istanbul
BEGIN:STANDARD
TZOFFSETFROM:+0300
TZOFFSETTO:+0300
TZNAME:+03
DTSTART:20240101T000000
END:STANDARD
END:VTIMEZONE
BEGIN:VEVENT
DTSTART;TZID=Europe/Istanbul:20251225T143000
DTEND;TZID=Europe/Istanbul:20251225T153000
DTSTAMP:20260423T210253
CREATED:20251211T125537Z
LAST-MODIFIED:20251211T134708Z
UID:5148-1766673000-1766676600@hucurathareketi.com
SUMMARY:G.O.Paşa - Kazım Karabekir Kız AİHL SEMİNER
DESCRIPTION:Kazım karabekir Anadolu kız imamhatip lisesi\n\nSEMİNER\n\nKonu:Uluslar arası ilişkiler de Gazze ve mazlum coğrafya\n\n 
URL:https://hucurathareketi.com/event/s-gazi-kazim-karabekir-seminer/
ATTACH;FMTTYPE=image/png:https://hucurathareketi.com/wp-content/uploads/2025/12/kazimkarabekir.png
END:VEVENT
END:VCALENDAR