BEGIN:VCALENDAR
VERSION:2.0
PRODID:-//Hucurat Hareketi - ECPv6.15.20//NONSGML v1.0//EN
CALSCALE:GREGORIAN
METHOD:PUBLISH
X-WR-CALNAME:Hucurat Hareketi
X-ORIGINAL-URL:https://hucurathareketi.com
X-WR-CALDESC:Hucurat Hareketi için etkinlikler
REFRESH-INTERVAL;VALUE=DURATION:PT1H
X-Robots-Tag:noindex
X-PUBLISHED-TTL:PT1H
BEGIN:VTIMEZONE
TZID:Europe/Istanbul
BEGIN:STANDARD
TZOFFSETFROM:+0300
TZOFFSETTO:+0300
TZNAME:+03
DTSTART:20240101T000000
END:STANDARD
END:VTIMEZONE
BEGIN:VEVENT
DTSTART;TZID=Europe/Istanbul:20251224T100000
DTEND;TZID=Europe/Istanbul:20251224T160000
DTSTAMP:20260423T210123
CREATED:20251218T083036Z
LAST-MODIFIED:20251218T083036Z
UID:5192-1766570400-1766592000@hucurathareketi.com
SUMMARY:Bahçelievler Kemal Hasoğlu
DESCRIPTION:Kemal Hasoğlu imam Hatip Ortaokulu\n\nZüleyha hoca ile\n\n200 öğrenci\n\nSunum + Sergi + Boyama + Stant\n\nKudüs sokağı yapacaklar. Bu çalışmaya destek olunacak ayrıca.
URL:https://hucurathareketi.com/event/bahcelievler-kemal-hasoglu/
END:VEVENT
END:VCALENDAR