BEGIN:VCALENDAR
VERSION:2.0
PRODID:-//Hucurat Hareketi - ECPv6.15.20//NONSGML v1.0//EN
CALSCALE:GREGORIAN
METHOD:PUBLISH
X-ORIGINAL-URL:https://hucurathareketi.com
X-WR-CALDESC:Hucurat Hareketi için etkinlikler
REFRESH-INTERVAL;VALUE=DURATION:PT1H
X-Robots-Tag:noindex
X-PUBLISHED-TTL:PT1H
BEGIN:VTIMEZONE
TZID:Europe/Istanbul
BEGIN:STANDARD
TZOFFSETFROM:+0300
TZOFFSETTO:+0300
TZNAME:+03
DTSTART:20240101T000000
END:STANDARD
END:VTIMEZONE
BEGIN:VEVENT
DTSTART;TZID=Europe/Istanbul:20251218T150000
DTEND;TZID=Europe/Istanbul:20251218T170000
DTSTAMP:20260423T205716
CREATED:20251211T132138Z
LAST-MODIFIED:20251211T132138Z
UID:5154-1766070000-1766077200@hucurathareketi.com
SUMMARY:Gültepe İHO
DESCRIPTION:Seminer +Boyama + Sergi\n\nBurak hoca (Arzu hoca referans)\n\n 
URL:https://hucurathareketi.com/event/gultepe-iho/
END:VEVENT
END:VCALENDAR