BEGIN:VCALENDAR
VERSION:2.0
PRODID:-//Hucurat Hareketi - ECPv6.15.20//NONSGML v1.0//EN
CALSCALE:GREGORIAN
METHOD:PUBLISH
X-WR-CALNAME:Hucurat Hareketi
X-ORIGINAL-URL:https://hucurathareketi.com
X-WR-CALDESC:Hucurat Hareketi için etkinlikler
REFRESH-INTERVAL;VALUE=DURATION:PT1H
X-Robots-Tag:noindex
X-PUBLISHED-TTL:PT1H
BEGIN:VTIMEZONE
TZID:Europe/Istanbul
BEGIN:STANDARD
TZOFFSETFROM:+0300
TZOFFSETTO:+0300
TZNAME:+03
DTSTART:20240101T000000
END:STANDARD
END:VTIMEZONE
BEGIN:VEVENT
DTSTART;TZID=Europe/Istanbul:20251210T180000
DTEND;TZID=Europe/Istanbul:20251210T180000
DTSTAMP:20260423T210108
CREATED:20251205T121934Z
LAST-MODIFIED:20251211T063430Z
UID:5070-1765389600-1765389600@hucurathareketi.com
SUMMARY:Dilovası Belediyesi Konferans Salonu
DESCRIPTION:Konferans + Sergi\n\n 
URL:https://hucurathareketi.com/event/dilovasi/
END:VEVENT
END:VCALENDAR