BEGIN:VCALENDAR
VERSION:2.0
PRODID:-//Hucurat Hareketi - ECPv6.15.20//NONSGML v1.0//EN
CALSCALE:GREGORIAN
METHOD:PUBLISH
X-ORIGINAL-URL:https://hucurathareketi.com
X-WR-CALDESC:Hucurat Hareketi için etkinlikler
REFRESH-INTERVAL;VALUE=DURATION:PT1H
X-Robots-Tag:noindex
X-PUBLISHED-TTL:PT1H
BEGIN:VTIMEZONE
TZID:Europe/Istanbul
BEGIN:STANDARD
TZOFFSETFROM:+0300
TZOFFSETTO:+0300
TZNAME:+03
DTSTART:20240101T000000
END:STANDARD
END:VTIMEZONE
BEGIN:VEVENT
DTSTART;TZID=Europe/Istanbul:20251126T103000
DTEND;TZID=Europe/Istanbul:20251126T133000
DTSTAMP:20260423T192633
CREATED:20251124T071103Z
LAST-MODIFIED:20251124T071103Z
UID:4961-1764153000-1764163800@hucurathareketi.com
SUMMARY:KARTAL Yeni Kazanım Okulları
DESCRIPTION:Özel Yeni Kazanım Okulları / KARTAL\n\nSefa Aktay hoca\n\nAnaokulu + İlk + Orta okul\n\nSeminer + Sergi + Boyama
URL:https://hucurathareketi.com/event/kartal-yeni-kazanim-okullari/
END:VEVENT
END:VCALENDAR