BEGIN:VCALENDAR
VERSION:2.0
PRODID:-//Hucurat Hareketi - ECPv6.15.20//NONSGML v1.0//EN
CALSCALE:GREGORIAN
METHOD:PUBLISH
X-WR-CALNAME:Hucurat Hareketi
X-ORIGINAL-URL:https://hucurathareketi.com
X-WR-CALDESC:Hucurat Hareketi için etkinlikler
REFRESH-INTERVAL;VALUE=DURATION:PT1H
X-Robots-Tag:noindex
X-PUBLISHED-TTL:PT1H
BEGIN:VTIMEZONE
TZID:Europe/Istanbul
BEGIN:STANDARD
TZOFFSETFROM:+0300
TZOFFSETTO:+0300
TZNAME:+03
DTSTART:20240101T000000
END:STANDARD
END:VTIMEZONE
BEGIN:VEVENT
DTSTART;TZID=Europe/Istanbul:20251015T100000
DTEND;TZID=Europe/Istanbul:20251015T153000
DTSTAMP:20260423T175727
CREATED:20251011T172255Z
LAST-MODIFIED:20251011T172335Z
UID:4744-1760522400-1760542200@hucurathareketi.com
SUMMARY:Başakşehir Petek Koleji
DESCRIPTION:ilk ve ortaokul öğrencilerine ayrı sunum\n\nsergi\n\nboyama\n\n 
URL:https://hucurathareketi.com/event/basaksehir-petek-koleji/
END:VEVENT
END:VCALENDAR