BEGIN:VCALENDAR
VERSION:2.0
PRODID:-//Hucurat Hareketi - ECPv6.15.20//NONSGML v1.0//EN
CALSCALE:GREGORIAN
METHOD:PUBLISH
X-WR-CALNAME:Hucurat Hareketi
X-ORIGINAL-URL:https://hucurathareketi.com
X-WR-CALDESC:Hucurat Hareketi için etkinlikler
REFRESH-INTERVAL;VALUE=DURATION:PT1H
X-Robots-Tag:noindex
X-PUBLISHED-TTL:PT1H
BEGIN:VTIMEZONE
TZID:Europe/Istanbul
BEGIN:STANDARD
TZOFFSETFROM:+0300
TZOFFSETTO:+0300
TZNAME:+03
DTSTART:20240101T000000
END:STANDARD
END:VTIMEZONE
BEGIN:VEVENT
DTSTART;TZID=Europe/Istanbul:20251011T140000
DTEND;TZID=Europe/Istanbul:20251011T160000
DTSTAMP:20260423T175727
CREATED:20250904T104520Z
LAST-MODIFIED:20250904T110233Z
UID:4481-1760191200-1760198400@hucurathareketi.com
SUMMARY:Üsküdar Yavuz Türk Fatih Camii
DESCRIPTION:Tarık Efe (imam)\n\n36 çocuk var.\n\nSunum + Boyama + Sergi\n\nÇocuklara hediye götürülecek.
URL:https://hucurathareketi.com/event/uskudar-yavuz-turk-fatih-camii/
END:VEVENT
END:VCALENDAR