BEGIN:VCALENDAR
VERSION:2.0
PRODID:-//Hucurat Hareketi - ECPv6.15.20//NONSGML v1.0//EN
CALSCALE:GREGORIAN
METHOD:PUBLISH
X-ORIGINAL-URL:https://hucurathareketi.com
X-WR-CALDESC:Hucurat Hareketi için etkinlikler
REFRESH-INTERVAL;VALUE=DURATION:PT1H
X-Robots-Tag:noindex
X-PUBLISHED-TTL:PT1H
BEGIN:VTIMEZONE
TZID:Europe/Istanbul
BEGIN:STANDARD
TZOFFSETFROM:+0300
TZOFFSETTO:+0300
TZNAME:+03
DTSTART:20240101T000000
END:STANDARD
END:VTIMEZONE
BEGIN:VEVENT
DTSTART;TZID=Europe/Istanbul:20251009T080000
DTEND;TZID=Europe/Istanbul:20251010T170000
DTSTAMP:20260423T180009
CREATED:20251006T162803Z
LAST-MODIFIED:20251006T162803Z
UID:4698-1759996800-1760115600@hucurathareketi.com
SUMMARY:Eskişehir 2 günlük sergi
DESCRIPTION:Metin Meriç…\n\nFilistin resim sergisi
URL:https://hucurathareketi.com/event/eskisehir-2-gunluk-sergi/
END:VEVENT
END:VCALENDAR