BEGIN:VCALENDAR
VERSION:2.0
PRODID:-//Hucurat Hareketi - ECPv6.15.20//NONSGML v1.0//EN
CALSCALE:GREGORIAN
METHOD:PUBLISH
X-WR-CALNAME:Hucurat Hareketi
X-ORIGINAL-URL:https://hucurathareketi.com
X-WR-CALDESC:Hucurat Hareketi için etkinlikler
REFRESH-INTERVAL;VALUE=DURATION:PT1H
X-Robots-Tag:noindex
X-PUBLISHED-TTL:PT1H
BEGIN:VTIMEZONE
TZID:Europe/Istanbul
BEGIN:STANDARD
TZOFFSETFROM:+0300
TZOFFSETTO:+0300
TZNAME:+03
DTSTART:20240101T000000
END:STANDARD
END:VTIMEZONE
BEGIN:VEVENT
DTSTART;TZID=Europe/Istanbul:20251008T133000
DTEND;TZID=Europe/Istanbul:20251008T170000
DTSTAMP:20260423T175652
CREATED:20251003T150357Z
LAST-MODIFIED:20251003T150808Z
UID:4672-1759930200-1759942800@hucurathareketi.com
SUMMARY:Sultangazi Beyaz Güvercinler Anaokulu
DESCRIPTION:Ayşe Ercan hoca\n\nAnlatım\n\n60 çocuk ( boyama kitabı)\n\n13.30
URL:https://hucurathareketi.com/event/sultangazi-beyaz-guvercinler-anaokulu/
END:VEVENT
END:VCALENDAR