BEGIN:VCALENDAR
VERSION:2.0
PRODID:-//Hucurat Hareketi - ECPv6.15.20//NONSGML v1.0//EN
CALSCALE:GREGORIAN
METHOD:PUBLISH
X-WR-CALNAME:Hucurat Hareketi
X-ORIGINAL-URL:https://hucurathareketi.com
X-WR-CALDESC:Hucurat Hareketi için etkinlikler
REFRESH-INTERVAL;VALUE=DURATION:PT1H
X-Robots-Tag:noindex
X-PUBLISHED-TTL:PT1H
BEGIN:VTIMEZONE
TZID:Europe/Istanbul
BEGIN:STANDARD
TZOFFSETFROM:+0300
TZOFFSETTO:+0300
TZNAME:+03
DTSTART:20240101T000000
END:STANDARD
END:VTIMEZONE
BEGIN:VEVENT
DTSTART;TZID=Europe/Istanbul:20251004T080000
DTEND;TZID=Europe/Istanbul:20251004T170000
DTSTAMP:20260423T164551
CREATED:20250824T185617Z
LAST-MODIFIED:20250824T185617Z
UID:4325-1759564800-1759597200@hucurathareketi.com
SUMMARY:Mehmet Nuri Yardım
DESCRIPTION:Gençlerle sohbet
URL:https://hucurathareketi.com/event/mehmet-nuri-yardim/
END:VEVENT
END:VCALENDAR