BEGIN:VCALENDAR
VERSION:2.0
PRODID:-//Hucurat Hareketi - ECPv6.15.20//NONSGML v1.0//EN
CALSCALE:GREGORIAN
METHOD:PUBLISH
X-ORIGINAL-URL:https://hucurathareketi.com
X-WR-CALDESC:Hucurat Hareketi için etkinlikler
REFRESH-INTERVAL;VALUE=DURATION:PT1H
X-Robots-Tag:noindex
X-PUBLISHED-TTL:PT1H
BEGIN:VTIMEZONE
TZID:Europe/Istanbul
BEGIN:STANDARD
TZOFFSETFROM:+0300
TZOFFSETTO:+0300
TZNAME:+03
DTSTART:20240101T000000
END:STANDARD
END:VTIMEZONE
BEGIN:VEVENT
DTSTART;TZID=Europe/Istanbul:20250817T110000
DTEND;TZID=Europe/Istanbul:20250817T183000
DTSTAMP:20260423T151249
CREATED:20250813T202642Z
LAST-MODIFIED:20250813T202835Z
UID:4272-1755428400-1755455400@hucurathareketi.com
SUMMARY:Gebze Çayırova Sergi
DESCRIPTION:Gönülbirliği Derneği\n\nKocaeli Darıca\n\nOsmangazi Saat Kulesi meydanı\n\nRESİM SERGİSİ
URL:https://hucurathareketi.com/event/gebze-cayirova/
ATTACH;FMTTYPE=image/png:https://hucurathareketi.com/wp-content/uploads/2025/08/darica-kocaeli.png
END:VEVENT
END:VCALENDAR