BEGIN:VCALENDAR
VERSION:2.0
PRODID:-//Hucurat Hareketi - ECPv6.15.20//NONSGML v1.0//EN
CALSCALE:GREGORIAN
METHOD:PUBLISH
X-ORIGINAL-URL:https://hucurathareketi.com
X-WR-CALDESC:Hucurat Hareketi için etkinlikler
REFRESH-INTERVAL;VALUE=DURATION:PT1H
X-Robots-Tag:noindex
X-PUBLISHED-TTL:PT1H
BEGIN:VTIMEZONE
TZID:Europe/Istanbul
BEGIN:STANDARD
TZOFFSETFROM:+0300
TZOFFSETTO:+0300
TZNAME:+03
DTSTART:20240101T000000
END:STANDARD
END:VTIMEZONE
BEGIN:VEVENT
DTSTART;TZID=Europe/Istanbul:20250814T140000
DTEND;TZID=Europe/Istanbul:20250814T160000
DTSTAMP:20260423T151418
CREATED:20250811T102835Z
LAST-MODIFIED:20250811T102835Z
UID:4266-1755180000-1755187200@hucurathareketi.com
SUMMARY:S.Gazi Yavuz Sultan Selim Camii
DESCRIPTION:Ümmügülsüm hoca\n\n80 kız öğrenci\n\nSunum + Sergi + Boyama
URL:https://hucurathareketi.com/event/s-gazi-yavuz-sultan-selim-camii/
ATTACH;FMTTYPE=image/png:https://hucurathareketi.com/wp-content/uploads/2025/08/sultangazi.png
END:VEVENT
END:VCALENDAR