BEGIN:VCALENDAR
VERSION:2.0
PRODID:-//Hucurat Hareketi - ECPv6.15.20//NONSGML v1.0//EN
CALSCALE:GREGORIAN
METHOD:PUBLISH
X-ORIGINAL-URL:https://hucurathareketi.com
X-WR-CALDESC:Hucurat Hareketi için etkinlikler
REFRESH-INTERVAL;VALUE=DURATION:PT1H
X-Robots-Tag:noindex
X-PUBLISHED-TTL:PT1H
BEGIN:VTIMEZONE
TZID:Europe/Istanbul
BEGIN:STANDARD
TZOFFSETFROM:+0300
TZOFFSETTO:+0300
TZNAME:+03
DTSTART:20240101T000000
END:STANDARD
END:VTIMEZONE
BEGIN:VEVENT
DTSTART;TZID=Europe/Istanbul:20250806T103000
DTEND;TZID=Europe/Istanbul:20250806T123000
DTSTAMP:20260423T151306
CREATED:20250804T112842Z
LAST-MODIFIED:20250804T112842Z
UID:4227-1754476200-1754483400@hucurathareketi.com
SUMMARY:Avcılar Mustafa Hasanoğlu Mescidi
DESCRIPTION:Erkan Özcan hoca\n\n60-70 çocuk\n\nAvcılar Müftülüğü’ne bağlı.\n\nSunum + Sergi + Boyama
URL:https://hucurathareketi.com/event/avcilar-mustafa-hasanoglu-mescidi/
END:VEVENT
END:VCALENDAR