BEGIN:VCALENDAR
VERSION:2.0
PRODID:-//Hucurat Hareketi - ECPv6.15.20//NONSGML v1.0//EN
CALSCALE:GREGORIAN
METHOD:PUBLISH
X-ORIGINAL-URL:https://hucurathareketi.com
X-WR-CALDESC:Hucurat Hareketi için etkinlikler
REFRESH-INTERVAL;VALUE=DURATION:PT1H
X-Robots-Tag:noindex
X-PUBLISHED-TTL:PT1H
BEGIN:VTIMEZONE
TZID:Europe/Istanbul
BEGIN:STANDARD
TZOFFSETFROM:+0300
TZOFFSETTO:+0300
TZNAME:+03
DTSTART:20240101T000000
END:STANDARD
END:VTIMEZONE
BEGIN:VEVENT
DTSTART;TZID=Europe/Istanbul:20250728T140000
DTEND;TZID=Europe/Istanbul:20250728T170000
DTSTAMP:20260423T135539
CREATED:20250715T191507Z
LAST-MODIFIED:20250715T191507Z
UID:4086-1753711200-1753722000@hucurathareketi.com
SUMMARY:Hucurat Sümbül atölye 4
DESCRIPTION:dördüncü program\n\nHucurat’a gelecekler\n\n20 öğrenci
URL:https://hucurathareketi.com/event/hucurat-sumbul-atolye-4/
END:VEVENT
END:VCALENDAR