BEGIN:VCALENDAR
VERSION:2.0
PRODID:-//Hucurat Hareketi - ECPv6.15.20//NONSGML v1.0//EN
CALSCALE:GREGORIAN
METHOD:PUBLISH
X-WR-CALNAME:Hucurat Hareketi
X-ORIGINAL-URL:https://hucurathareketi.com
X-WR-CALDESC:Hucurat Hareketi için etkinlikler
REFRESH-INTERVAL;VALUE=DURATION:PT1H
X-Robots-Tag:noindex
X-PUBLISHED-TTL:PT1H
BEGIN:VTIMEZONE
TZID:Europe/Istanbul
BEGIN:STANDARD
TZOFFSETFROM:+0300
TZOFFSETTO:+0300
TZNAME:+03
DTSTART:20240101T000000
END:STANDARD
END:VTIMEZONE
BEGIN:VEVENT
DTSTART;TZID=Europe/Istanbul:20250714T120000
DTEND;TZID=Europe/Istanbul:20250714T140000
DTSTAMP:20260423T135909
CREATED:20250628T215437Z
LAST-MODIFIED:20250708T100454Z
UID:3920-1752494400-1752501600@hucurathareketi.com
SUMMARY:ÜMRANİYE Yedihilal Derneği
DESCRIPTION:Tuba hanım\n\nYedihilal Derneği Ümraniye Şubesi\n\n10 çocuk\n\nsunum+boyama+kitap hediye+bilgi yarışması\n\nSaat: 12.00-14.00 arası
URL:https://hucurathareketi.com/event/umraniye-yedihilal-dernegi/
END:VEVENT
END:VCALENDAR