BEGIN:VCALENDAR
VERSION:2.0
PRODID:-//Hucurat Hareketi - ECPv6.15.20//NONSGML v1.0//EN
CALSCALE:GREGORIAN
METHOD:PUBLISH
X-WR-CALNAME:Hucurat Hareketi
X-ORIGINAL-URL:https://hucurathareketi.com
X-WR-CALDESC:Hucurat Hareketi için etkinlikler
REFRESH-INTERVAL;VALUE=DURATION:PT1H
X-Robots-Tag:noindex
X-PUBLISHED-TTL:PT1H
BEGIN:VTIMEZONE
TZID:Europe/Istanbul
BEGIN:STANDARD
TZOFFSETFROM:+0300
TZOFFSETTO:+0300
TZNAME:+03
DTSTART:20240101T000000
END:STANDARD
END:VTIMEZONE
BEGIN:VEVENT
DTSTART;TZID=Europe/Istanbul:20250705T100000
DTEND;TZID=Europe/Istanbul:20250705T170000
DTSTAMP:20260423T130048
CREATED:20250703T025803Z
LAST-MODIFIED:20250703T025803Z
UID:4017-1751709600-1751734800@hucurathareketi.com
SUMMARY:Gazzeli çocuklar piknik
DESCRIPTION:100 çocuk
URL:https://hucurathareketi.com/event/gazzeli-cocuklar-piknik/
END:VEVENT
END:VCALENDAR