BEGIN:VCALENDAR
VERSION:2.0
PRODID:-//Hucurat Hareketi - ECPv6.15.20//NONSGML v1.0//EN
CALSCALE:GREGORIAN
METHOD:PUBLISH
X-WR-CALNAME:Hucurat Hareketi
X-ORIGINAL-URL:https://hucurathareketi.com
X-WR-CALDESC:Hucurat Hareketi için etkinlikler
REFRESH-INTERVAL;VALUE=DURATION:PT1H
X-Robots-Tag:noindex
X-PUBLISHED-TTL:PT1H
BEGIN:VTIMEZONE
TZID:Europe/Istanbul
BEGIN:STANDARD
TZOFFSETFROM:+0300
TZOFFSETTO:+0300
TZNAME:+03
DTSTART:20240101T000000
END:STANDARD
END:VTIMEZONE
BEGIN:VEVENT
DTSTART;TZID=Europe/Istanbul:20250702T120000
DTEND;TZID=Europe/Istanbul:20250702T140000
DTSTAMP:20260423T122857
CREATED:20250703T025904Z
LAST-MODIFIED:20250703T025904Z
UID:4019-1751457600-1751464800@hucurathareketi.com
SUMMARY:Sultangazi Mekanı aksa
DESCRIPTION:kudüs çocuk atölyesi
URL:https://hucurathareketi.com/event/sultangazi-mekani-aksa/
END:VEVENT
END:VCALENDAR