BEGIN:VCALENDAR
VERSION:2.0
PRODID:-//Hucurat Hareketi - ECPv6.15.20//NONSGML v1.0//EN
CALSCALE:GREGORIAN
METHOD:PUBLISH
X-ORIGINAL-URL:https://hucurathareketi.com
X-WR-CALDESC:Hucurat Hareketi için etkinlikler
REFRESH-INTERVAL;VALUE=DURATION:PT1H
X-Robots-Tag:noindex
X-PUBLISHED-TTL:PT1H
BEGIN:VTIMEZONE
TZID:Europe/Istanbul
BEGIN:STANDARD
TZOFFSETFROM:+0300
TZOFFSETTO:+0300
TZNAME:+03
DTSTART:20240101T000000
END:STANDARD
END:VTIMEZONE
BEGIN:VEVENT
DTSTART;TZID=Europe/Istanbul:20250614T100000
DTEND;TZID=Europe/Istanbul:20250614T200000
DTSTAMP:20260423T122501
CREATED:20250613T162421Z
LAST-MODIFIED:20250613T162528Z
UID:3850-1749895200-1749931200@hucurathareketi.com
SUMMARY:Mısır Konsolosluğu Resim Sergisi
DESCRIPTION:Sarıyer’de bulunan Mısır Konsolosluğu önündeki alanda Filistin resim sergisi
URL:https://hucurathareketi.com/event/misir-konsoloslugu-resim-sergisi/
END:VEVENT
END:VCALENDAR