BEGIN:VCALENDAR
VERSION:2.0
PRODID:-//Hucurat Hareketi - ECPv6.15.20//NONSGML v1.0//EN
CALSCALE:GREGORIAN
METHOD:PUBLISH
X-ORIGINAL-URL:https://hucurathareketi.com
X-WR-CALDESC:Hucurat Hareketi için etkinlikler
REFRESH-INTERVAL;VALUE=DURATION:PT1H
X-Robots-Tag:noindex
X-PUBLISHED-TTL:PT1H
BEGIN:VTIMEZONE
TZID:Europe/Istanbul
BEGIN:STANDARD
TZOFFSETFROM:+0300
TZOFFSETTO:+0300
TZNAME:+03
DTSTART:20240101T000000
END:STANDARD
END:VTIMEZONE
BEGIN:VEVENT
DTSTART;TZID=Europe/Istanbul:20250219T100000
DTEND;TZID=Europe/Istanbul:20250219T123000
DTSTAMP:20260419T224941
CREATED:20250205T190407Z
LAST-MODIFIED:20250206T083327Z
UID:3314-1739959200-1739968200@hucurathareketi.com
SUMMARY:Ümraniye Namık Kemal AİHO
DESCRIPTION:Namık Kemal Anadolu İHO / Ümraniye / Haldun hoca\n\nSeminer+Sergi+Boyama(?)+Stant
URL:https://hucurathareketi.com/event/haldun-hoca/
END:VEVENT
END:VCALENDAR