BEGIN:VCALENDAR
VERSION:2.0
PRODID:-//Hucurat Hareketi - ECPv6.15.20//NONSGML v1.0//EN
CALSCALE:GREGORIAN
METHOD:PUBLISH
X-ORIGINAL-URL:https://hucurathareketi.com
X-WR-CALDESC:Hucurat Hareketi için etkinlikler
REFRESH-INTERVAL;VALUE=DURATION:PT1H
X-Robots-Tag:noindex
X-PUBLISHED-TTL:PT1H
BEGIN:VTIMEZONE
TZID:Europe/Istanbul
BEGIN:STANDARD
TZOFFSETFROM:+0300
TZOFFSETTO:+0300
TZNAME:+03
DTSTART:20240101T000000
END:STANDARD
END:VTIMEZONE
BEGIN:VEVENT
DTSTART;TZID=Europe/Istanbul:20250212T113000
DTEND;TZID=Europe/Istanbul:20250212T150000
DTSTAMP:20260419T224910
CREATED:20250206T101731Z
LAST-MODIFIED:20250206T111506Z
UID:3317-1739359800-1739372400@hucurathareketi.com
SUMMARY:Yayla Merkez Cami Kuran Kursu
DESCRIPTION:Kübra Değirmenci\n\nYayla Merkez Camii Kur’an Kursu\n\n4-6 yaş grubu\n\n65 çocuk\n\n11.30 ilk grup\n\n13.30 İkinci grup\n\n 
URL:https://hucurathareketi.com/event/sultangazi-yayla-kuran-kursu/
END:VEVENT
END:VCALENDAR