BEGIN:VCALENDAR
VERSION:2.0
PRODID:-//Hucurat Hareketi - ECPv6.15.20//NONSGML v1.0//EN
CALSCALE:GREGORIAN
METHOD:PUBLISH
X-ORIGINAL-URL:https://hucurathareketi.com
X-WR-CALDESC:Hucurat Hareketi için etkinlikler
REFRESH-INTERVAL;VALUE=DURATION:PT1H
X-Robots-Tag:noindex
X-PUBLISHED-TTL:PT1H
BEGIN:VTIMEZONE
TZID:Europe/Istanbul
BEGIN:STANDARD
TZOFFSETFROM:+0300
TZOFFSETTO:+0300
TZNAME:+03
DTSTART:20240101T000000
END:STANDARD
END:VTIMEZONE
BEGIN:VEVENT
DTSTART;TZID=Europe/Istanbul:20250121T160000
DTEND;TZID=Europe/Istanbul:20250121T170000
DTSTAMP:20260420T001126
CREATED:20250109T145829Z
LAST-MODIFIED:20250109T145829Z
UID:3215-1737475200-1737478800@hucurathareketi.com
SUMMARY:İhya Sümbül Efendi
DESCRIPTION:İhya Vakfı\, Sümbül Efendi Yatılı Kız Kur’an Kursu\n\nSeminer + Resim Sergisi
URL:https://hucurathareketi.com/event/ihya-sumbul-efendi/
END:VEVENT
END:VCALENDAR