BEGIN:VCALENDAR
VERSION:2.0
PRODID:-//Hucurat Hareketi - ECPv6.15.20//NONSGML v1.0//EN
CALSCALE:GREGORIAN
METHOD:PUBLISH
X-WR-CALNAME:Hucurat Hareketi
X-ORIGINAL-URL:https://hucurathareketi.com
X-WR-CALDESC:Hucurat Hareketi için etkinlikler
REFRESH-INTERVAL;VALUE=DURATION:PT1H
X-Robots-Tag:noindex
X-PUBLISHED-TTL:PT1H
BEGIN:VTIMEZONE
TZID:Europe/Istanbul
BEGIN:STANDARD
TZOFFSETFROM:+0300
TZOFFSETTO:+0300
TZNAME:+03
DTSTART:20240101T000000
END:STANDARD
END:VTIMEZONE
BEGIN:VEVENT
DTSTART;TZID=Europe/Istanbul:20250118T120000
DTEND;TZID=Europe/Istanbul:20250118T140000
DTSTAMP:20260420T000823
CREATED:20250112T154545Z
LAST-MODIFIED:20250112T154545Z
UID:3233-1737201600-1737208800@hucurathareketi.com
SUMMARY:Fatih Çocuk Atölyesi
DESCRIPTION:Başakşehir’en gelecek olan 8-10 çocukla Fatih merkezimizde atölye çalışması yapılacak.\n\nZeynep Aytar
URL:https://hucurathareketi.com/event/fatih-cocuk-atolyesi/
END:VEVENT
END:VCALENDAR