BEGIN:VCALENDAR
VERSION:2.0
PRODID:-//Hucurat Hareketi - ECPv6.15.20//NONSGML v1.0//EN
CALSCALE:GREGORIAN
METHOD:PUBLISH
X-ORIGINAL-URL:https://hucurathareketi.com
X-WR-CALDESC:Hucurat Hareketi için etkinlikler
REFRESH-INTERVAL;VALUE=DURATION:PT1H
X-Robots-Tag:noindex
X-PUBLISHED-TTL:PT1H
BEGIN:VTIMEZONE
TZID:Europe/Istanbul
BEGIN:STANDARD
TZOFFSETFROM:+0300
TZOFFSETTO:+0300
TZNAME:+03
DTSTART:20240101T000000
END:STANDARD
END:VTIMEZONE
BEGIN:VEVENT
DTSTART;TZID=Europe/Istanbul:20250114T090000
DTEND;TZID=Europe/Istanbul:20250114T153000
DTSTAMP:20260420T001126
CREATED:20241123T205858Z
LAST-MODIFIED:20241123T205907Z
UID:3111-1736845200-1736868600@hucurathareketi.com
SUMMARY:G.O.Paşa Resim Sergisi
DESCRIPTION:Şehit Halil İbrahim Yıldırım Anadolu İHL / Gaziosmanpaşa\n\n14 Ocak Salı\n\nMesut Zeren hoca ile\n\nSergi açılacak.
URL:https://hucurathareketi.com/event/g-o-pasa-resim-sergisi/
END:VEVENT
END:VCALENDAR